BEGIN:VCALENDAR
VERSION:2.0
PRODID:-//CRO-WORK-IN | Coworking, Salles de Réunion, Team building et Séminaires | Strasbourg-Cronenbourg - ECPv6.9.1//NONSGML v1.0//EN
CALSCALE:GREGORIAN
METHOD:PUBLISH
X-ORIGINAL-URL:https://cro-work-in.fr
X-WR-CALDESC:Évènements pour CRO-WORK-IN | Coworking, Salles de Réunion, Team building et Séminaires | Strasbourg-Cronenbourg
REFRESH-INTERVAL;VALUE=DURATION:PT1H
X-Robots-Tag:noindex
X-PUBLISHED-TTL:PT1H
BEGIN:VTIMEZONE
TZID:Europe/Paris
BEGIN:DAYLIGHT
TZOFFSETFROM:+0100
TZOFFSETTO:+0200
TZNAME:CEST
DTSTART:20250330T010000
END:DAYLIGHT
BEGIN:STANDARD
TZOFFSETFROM:+0200
TZOFFSETTO:+0100
TZNAME:CET
DTSTART:20251026T010000
END:STANDARD
END:VTIMEZONE
BEGIN:VEVENT
DTSTART;TZID=Europe/Paris:20250303T183000
DTEND;TZID=Europe/Paris:20250303T194500
DTSTAMP:20260422T110510
CREATED:20250114T125015Z
LAST-MODIFIED:20250123T102234Z
UID:7195-1741026600-1741031100@cro-work-in.fr
SUMMARY:Cours de yoga Viny’hatha / Flow
DESCRIPTION:Tous les lundis de 18h30 à 19h45.  \nTarifs et inscription uniquement sur demande.
URL:https://cro-work-in.fr/evenement/cours-de-yoga-vinyhatha-flow-12/
LOCATION:CRO-WORK-IN\, 31\, route de Mittelhausbergen\, STRASBOURG\, 67200\, France
CATEGORIES:Sport
ATTACH;FMTTYPE=image/jpeg:https://cro-work-in.fr/wp-content/uploads/2025/01/1000004624.jpg
ORGANIZER;CN="Bella Eason Daniels":MAILTO:bellaeasondaniels@gmail.com
END:VEVENT
BEGIN:VEVENT
DTSTART;TZID=Europe/Paris:20250304T183000
DTEND;TZID=Europe/Paris:20250304T194500
DTSTAMP:20260422T110510
CREATED:20250114T125109Z
LAST-MODIFIED:20250123T102336Z
UID:7198-1741113000-1741117500@cro-work-in.fr
SUMMARY:Cours de yoga Viny’hatha / Flow
DESCRIPTION:Tous les mardis de 18h30 à 19h45.  \nTarifs et inscription uniquement sur demande.
URL:https://cro-work-in.fr/evenement/cours-de-yoga-vinyhatha-flow-13/
LOCATION:CRO-WORK-IN\, 31\, route de Mittelhausbergen\, STRASBOURG\, 67200\, France
CATEGORIES:Sport
ATTACH;FMTTYPE=image/jpeg:https://cro-work-in.fr/wp-content/uploads/2025/01/Bella.jpg
ORGANIZER;CN="Bella Eason Daniels":MAILTO:bellaeasondaniels@gmail.com
END:VEVENT
BEGIN:VEVENT
DTSTART;TZID=Europe/Paris:20250304T201500
DTEND;TZID=Europe/Paris:20250304T214500
DTSTAMP:20260422T110510
CREATED:20250114T125205Z
LAST-MODIFIED:20250116T104913Z
UID:7200-1741119300-1741124700@cro-work-in.fr
SUMMARY:Cours de yoga Hatha Flow
DESCRIPTION:Tous les mardis de 20h15 à 21h45.  \nTarifs et inscription uniquement sur demande.
URL:https://cro-work-in.fr/evenement/cours-de-hatha-flow-6/
LOCATION:CRO-WORK-IN\, 31\, route de Mittelhausbergen\, STRASBOURG\, 67200\, France
CATEGORIES:Sport
ATTACH;FMTTYPE=image/jpeg:https://cro-work-in.fr/wp-content/uploads/2025/01/0-1.jpeg
ORGANIZER;CN="Emilie Flux":MAILTO:emiliefaitduyoga@gmail.com
END:VEVENT
BEGIN:VEVENT
DTSTART;TZID=Europe/Paris:20250307T183000
DTEND;TZID=Europe/Paris:20250307T194500
DTSTAMP:20260422T110510
CREATED:20250307T084307Z
LAST-MODIFIED:20250307T084307Z
UID:7581-1741372200-1741376700@cro-work-in.fr
SUMMARY:Cours de yoga Viny’hatha / Flow
DESCRIPTION:Tous les lundis de 18h30 à 19h45.  \nTarifs et inscription uniquement sur demande. 
URL:https://cro-work-in.fr/evenement/cours-de-yoga-vinyhatha-flow-46/
LOCATION:CRO-WORK-IN\, 31\, route de Mittelhausbergen\, STRASBOURG\, 67200\, France
CATEGORIES:Sport
ATTACH;FMTTYPE=image/jpeg:https://cro-work-in.fr/wp-content/uploads/2025/01/Bella.jpg
ORGANIZER;CN="Bella Eason Daniels":MAILTO:bellaeasondaniels@gmail.com
END:VEVENT
BEGIN:VEVENT
DTSTART;TZID=Europe/Paris:20250310T183000
DTEND;TZID=Europe/Paris:20250310T194500
DTSTAMP:20260422T110510
CREATED:20250114T125949Z
LAST-MODIFIED:20250123T102449Z
UID:7209-1741631400-1741635900@cro-work-in.fr
SUMMARY:Cours de yoga Viny’hatha / Flow
DESCRIPTION:Tous les lundis de 18h30 à 19h45.  \nTarifs et inscription uniquement sur demande. 
URL:https://cro-work-in.fr/evenement/cours-de-yoga-vinyhatha-flow-14/
LOCATION:CRO-WORK-IN\, 31\, route de Mittelhausbergen\, STRASBOURG\, 67200\, France
CATEGORIES:Sport
ATTACH;FMTTYPE=image/jpeg:https://cro-work-in.fr/wp-content/uploads/2025/01/1000004624.jpg
ORGANIZER;CN="Bella Eason Daniels":MAILTO:bellaeasondaniels@gmail.com
END:VEVENT
BEGIN:VEVENT
DTSTART;TZID=Europe/Paris:20250311T183000
DTEND;TZID=Europe/Paris:20250311T194500
DTSTAMP:20260422T110510
CREATED:20250114T130038Z
LAST-MODIFIED:20250123T102602Z
UID:7212-1741717800-1741722300@cro-work-in.fr
SUMMARY:Cours de yoga Viny’hatha / Flow
DESCRIPTION:Tous les mardis de 18h30 à 19h45.  \nTarifs et inscription uniquement sur demande. 
URL:https://cro-work-in.fr/evenement/cours-de-yoga-vinyhatha-flow-15/
LOCATION:CRO-WORK-IN\, 31\, route de Mittelhausbergen\, STRASBOURG\, 67200\, France
CATEGORIES:Sport
ATTACH;FMTTYPE=image/jpeg:https://cro-work-in.fr/wp-content/uploads/2025/01/Bella.jpg
ORGANIZER;CN="Bella Eason Daniels":MAILTO:bellaeasondaniels@gmail.com
END:VEVENT
BEGIN:VEVENT
DTSTART;TZID=Europe/Paris:20250311T201500
DTEND;TZID=Europe/Paris:20250311T214500
DTSTAMP:20260422T110510
CREATED:20250114T130135Z
LAST-MODIFIED:20250116T104959Z
UID:7215-1741724100-1741729500@cro-work-in.fr
SUMMARY:Cours de yoga Hatha Flow
DESCRIPTION:Tous les mardis de 20h15 à 21h45.  \nTarifs et inscription uniquement sur demande.
URL:https://cro-work-in.fr/evenement/cours-de-hatha-flow-7/
LOCATION:CRO-WORK-IN\, 31\, route de Mittelhausbergen\, STRASBOURG\, 67200\, France
CATEGORIES:Sport
ATTACH;FMTTYPE=image/jpeg:https://cro-work-in.fr/wp-content/uploads/2025/01/Mims-Yogiz_2024-8.jpg
ORGANIZER;CN="Emilie Flux":MAILTO:emiliefaitduyoga@gmail.com
END:VEVENT
BEGIN:VEVENT
DTSTART;TZID=Europe/Paris:20250317T183000
DTEND;TZID=Europe/Paris:20250317T194500
DTSTAMP:20260422T110510
CREATED:20250114T130645Z
LAST-MODIFIED:20250123T102719Z
UID:7224-1742236200-1742240700@cro-work-in.fr
SUMMARY:Cours de yoga Viny’hatha / Flow
DESCRIPTION:Tous les lundis de 18h30 à 19h45.  \nTarifs et inscription uniquement sur demande.
URL:https://cro-work-in.fr/evenement/cours-de-yoga-vinyhatha-flow-16/
LOCATION:CRO-WORK-IN\, 31\, route de Mittelhausbergen\, STRASBOURG\, 67200\, France
CATEGORIES:Sport
ATTACH;FMTTYPE=image/jpeg:https://cro-work-in.fr/wp-content/uploads/2025/01/1000004624.jpg
ORGANIZER;CN="Bella Eason Daniels":MAILTO:bellaeasondaniels@gmail.com
END:VEVENT
BEGIN:VEVENT
DTSTART;TZID=Europe/Paris:20250318T183000
DTEND;TZID=Europe/Paris:20250318T194500
DTSTAMP:20260422T110510
CREATED:20250114T130752Z
LAST-MODIFIED:20250123T102849Z
UID:7227-1742322600-1742327100@cro-work-in.fr
SUMMARY:Cours de yoga Viny’hatha / Flow
DESCRIPTION:Tous les mardis de 18h30 à 19h45.  \nTarifs et inscription uniquement sur demande.
URL:https://cro-work-in.fr/evenement/cours-de-yoga-vinyhatha-flow-17/
LOCATION:CRO-WORK-IN\, 31\, route de Mittelhausbergen\, STRASBOURG\, 67200\, France
CATEGORIES:Sport
ATTACH;FMTTYPE=image/jpeg:https://cro-work-in.fr/wp-content/uploads/2025/01/Bella.jpg
ORGANIZER;CN="Bella Eason Daniels":MAILTO:bellaeasondaniels@gmail.com
END:VEVENT
BEGIN:VEVENT
DTSTART;TZID=Europe/Paris:20250318T201500
DTEND;TZID=Europe/Paris:20250318T214500
DTSTAMP:20260422T110510
CREATED:20250114T130855Z
LAST-MODIFIED:20250116T105042Z
UID:7230-1742328900-1742334300@cro-work-in.fr
SUMMARY:Cours de yoga Hatha Flow
DESCRIPTION:Tous les mardis de 20h15 à 21h45.  \nTarifs et inscription uniquement sur demande. 
URL:https://cro-work-in.fr/evenement/cours-de-hatha-flow-8/
LOCATION:CRO-WORK-IN\, 31\, route de Mittelhausbergen\, STRASBOURG\, 67200\, France
CATEGORIES:Sport
ATTACH;FMTTYPE=image/jpeg:https://cro-work-in.fr/wp-content/uploads/2025/01/0.jpeg
ORGANIZER;CN="Emilie Flux":MAILTO:emiliefaitduyoga@gmail.com
END:VEVENT
BEGIN:VEVENT
DTSTART;TZID=Europe/Paris:20250324T183000
DTEND;TZID=Europe/Paris:20250324T194500
DTSTAMP:20260422T110510
CREATED:20250114T131325Z
LAST-MODIFIED:20250123T103030Z
UID:7239-1742841000-1742845500@cro-work-in.fr
SUMMARY:Cours de yoga Viny’hatha / Flow
DESCRIPTION:Tous les lundis de 18h30 à 19h45.  \nTarifs et inscription uniquement sur demande. 
URL:https://cro-work-in.fr/evenement/cours-de-yoga-vinyhatha-flow-18/
LOCATION:CRO-WORK-IN\, 31\, route de Mittelhausbergen\, STRASBOURG\, 67200\, France
CATEGORIES:Sport
ATTACH;FMTTYPE=image/jpeg:https://cro-work-in.fr/wp-content/uploads/2025/01/1000004624.jpg
ORGANIZER;CN="Bella Eason Daniels":MAILTO:bellaeasondaniels@gmail.com
END:VEVENT
BEGIN:VEVENT
DTSTART;TZID=Europe/Paris:20250325T183000
DTEND;TZID=Europe/Paris:20250325T194500
DTSTAMP:20260422T110510
CREATED:20250114T131422Z
LAST-MODIFIED:20250123T103202Z
UID:7242-1742927400-1742931900@cro-work-in.fr
SUMMARY:Cours de yoga Viny’hatha / Flow
DESCRIPTION:Tous les mardis de 18h30 à 19h45.  \nTarifs et inscription uniquement sur demande. 
URL:https://cro-work-in.fr/evenement/cours-de-yoga-vinyhatha-flow-19/
LOCATION:CRO-WORK-IN\, 31\, route de Mittelhausbergen\, STRASBOURG\, 67200\, France
CATEGORIES:Sport
ATTACH;FMTTYPE=image/jpeg:https://cro-work-in.fr/wp-content/uploads/2025/01/Bella.jpg
ORGANIZER;CN="Bella Eason Daniels":MAILTO:bellaeasondaniels@gmail.com
END:VEVENT
BEGIN:VEVENT
DTSTART;TZID=Europe/Paris:20250325T201500
DTEND;TZID=Europe/Paris:20250325T214500
DTSTAMP:20260422T110510
CREATED:20250114T131524Z
LAST-MODIFIED:20250116T105130Z
UID:7245-1742933700-1742939100@cro-work-in.fr
SUMMARY:Cours de yoga Hatha Flow
DESCRIPTION:Tous les mardis de 20h15 à 21h45.  \nTarifs et inscription uniquement sur demande. 
URL:https://cro-work-in.fr/evenement/cours-de-hatha-flow-9/
LOCATION:CRO-WORK-IN\, 31\, route de Mittelhausbergen\, STRASBOURG\, 67200\, France
CATEGORIES:Sport
ATTACH;FMTTYPE=image/jpeg:https://cro-work-in.fr/wp-content/uploads/2025/01/0-1.jpeg
ORGANIZER;CN="Emilie Flux":MAILTO:emiliefaitduyoga@gmail.com
END:VEVENT
BEGIN:VEVENT
DTSTART;TZID=Europe/Paris:20250331T183000
DTEND;TZID=Europe/Paris:20250331T194500
DTSTAMP:20260422T110510
CREATED:20250114T131956Z
LAST-MODIFIED:20250123T103303Z
UID:7254-1743445800-1743450300@cro-work-in.fr
SUMMARY:Cours de yoga Viny’hatha / Flow
DESCRIPTION:Tous les lundis de 18h30 à 19h45.  \nTarifs et inscription uniquement sur demande.
URL:https://cro-work-in.fr/evenement/cours-de-yoga-vinyhatha-flow-20/
LOCATION:CRO-WORK-IN\, 31\, route de Mittelhausbergen\, STRASBOURG\, 67200\, France
CATEGORIES:Sport
ATTACH;FMTTYPE=image/jpeg:https://cro-work-in.fr/wp-content/uploads/2025/01/1000004624.jpg
ORGANIZER;CN="Bella Eason Daniels":MAILTO:bellaeasondaniels@gmail.com
END:VEVENT
END:VCALENDAR