BEGIN:VCALENDAR
VERSION:2.0
PRODID:-//CRO-WORK-IN | Coworking, Salles de Réunion, Team building et Séminaires | Strasbourg-Cronenbourg - ECPv6.9.1//NONSGML v1.0//EN
CALSCALE:GREGORIAN
METHOD:PUBLISH
X-WR-CALNAME:CRO-WORK-IN | Coworking, Salles de Réunion, Team building et Séminaires | Strasbourg-Cronenbourg
X-ORIGINAL-URL:https://cro-work-in.fr
X-WR-CALDESC:Évènements pour CRO-WORK-IN | Coworking, Salles de Réunion, Team building et Séminaires | Strasbourg-Cronenbourg
REFRESH-INTERVAL;VALUE=DURATION:PT1H
X-Robots-Tag:noindex
X-PUBLISHED-TTL:PT1H
BEGIN:VTIMEZONE
TZID:Europe/Paris
BEGIN:DAYLIGHT
TZOFFSETFROM:+0100
TZOFFSETTO:+0200
TZNAME:CEST
DTSTART:20250330T010000
END:DAYLIGHT
BEGIN:STANDARD
TZOFFSETFROM:+0200
TZOFFSETTO:+0100
TZNAME:CET
DTSTART:20251026T010000
END:STANDARD
END:VTIMEZONE
BEGIN:VEVENT
DTSTART;TZID=Europe/Paris:20250106T183000
DTEND;TZID=Europe/Paris:20250106T194500
DTSTAMP:20260422T143106
CREATED:20241211T100634Z
LAST-MODIFIED:20241211T100634Z
UID:7085-1736188200-1736192700@cro-work-in.fr
SUMMARY:Cours de yoga Viny'hatha / Flow
DESCRIPTION:Tous les lundis de 18h30 à 19h45. \nTarifs et inscription uniquement sur demande.
URL:https://cro-work-in.fr/evenement/cours-de-yoga-vinyhatha-flow/
LOCATION:CRO-WORK-IN\, 31\, route de Mittelhausbergen\, STRASBOURG\, 67200\, France
CATEGORIES:Sport
ORGANIZER;CN="Bella Eason Daniels":MAILTO:bellaeasondaniels@gmail.com
END:VEVENT
BEGIN:VEVENT
DTSTART;TZID=Europe/Paris:20250107T183000
DTEND;TZID=Europe/Paris:20250107T194500
DTSTAMP:20260422T143106
CREATED:20241211T100958Z
LAST-MODIFIED:20241211T100958Z
UID:7087-1736274600-1736279100@cro-work-in.fr
SUMMARY:Cours de yoga Viny’hatha / Flow
DESCRIPTION:Tous les mardis de 18h30 à 19h45. \nTarifs et inscription uniquement sur demande.
URL:https://cro-work-in.fr/evenement/cours-de-yoga-vinyhatha-flow-2/
LOCATION:CRO-WORK-IN\, 31\, route de Mittelhausbergen\, STRASBOURG\, 67200\, France
CATEGORIES:Sport
ORGANIZER;CN="Bella Eason Daniels":MAILTO:bellaeasondaniels@gmail.com
END:VEVENT
BEGIN:VEVENT
DTSTART;TZID=Europe/Paris:20250114T183000
DTEND;TZID=Europe/Paris:20250114T194500
DTSTAMP:20260422T143106
CREATED:20250114T093133Z
LAST-MODIFIED:20250114T093133Z
UID:7104-1736879400-1736883900@cro-work-in.fr
SUMMARY:Cours de yoga Viny'hatha / Flow
DESCRIPTION:Tous les mardis de 18h30 à 19h45. \nTarifs et inscription uniquement sur demande.
URL:https://cro-work-in.fr/evenement/cours-de-yoga-vinyhatha-flow-3/
LOCATION:CRO-WORK-IN\, 31\, route de Mittelhausbergen\, STRASBOURG\, 67200\, France
CATEGORIES:Sport
ORGANIZER;CN="Bella Eason Daniels":MAILTO:bellaeasondaniels@gmail.com
END:VEVENT
BEGIN:VEVENT
DTSTART;TZID=Europe/Paris:20250114T201500
DTEND;TZID=Europe/Paris:20250114T214500
DTSTAMP:20260422T143106
CREATED:20250114T102238Z
LAST-MODIFIED:20250116T104243Z
UID:7125-1736885700-1736891100@cro-work-in.fr
SUMMARY:Cours de yoga Hatha Flow
DESCRIPTION:Tous les mardis de 20h15 à 21h45.  \nTarifs et inscription uniquement sur demande. 
URL:https://cro-work-in.fr/evenement/cours-de-hatha-flow/
LOCATION:CRO-WORK-IN\, 31\, route de Mittelhausbergen\, STRASBOURG\, 67200\, France
CATEGORIES:Sport
ATTACH;FMTTYPE=image/jpeg:https://cro-work-in.fr/wp-content/uploads/2025/01/Mims-Yogiz_2024-8.jpg
ORGANIZER;CN="Emilie Flux":MAILTO:emiliefaitduyoga@gmail.com
END:VEVENT
BEGIN:VEVENT
DTSTART;TZID=Europe/Paris:20250120T183000
DTEND;TZID=Europe/Paris:20250120T194500
DTSTAMP:20260422T143106
CREATED:20250114T113451Z
LAST-MODIFIED:20250114T113451Z
UID:7135-1737397800-1737402300@cro-work-in.fr
SUMMARY:Cours de yoga Viny’hatha / Flow
DESCRIPTION:Tous les lundis de 18h30 à 19h45.  \nTarifs et inscription uniquement sur demande. 
URL:https://cro-work-in.fr/evenement/cours-de-yoga-vinyhatha-flow-4/
LOCATION:CRO-WORK-IN\, 31\, route de Mittelhausbergen\, STRASBOURG\, 67200\, France
CATEGORIES:Sport
ORGANIZER;CN="Bella Eason Daniels":MAILTO:bellaeasondaniels@gmail.com
END:VEVENT
BEGIN:VEVENT
DTSTART;TZID=Europe/Paris:20250121T183000
DTEND;TZID=Europe/Paris:20250121T194500
DTSTAMP:20260422T143106
CREATED:20250114T113633Z
LAST-MODIFIED:20250114T113633Z
UID:7138-1737484200-1737488700@cro-work-in.fr
SUMMARY:Cours de yoga Viny’hatha / Flow
DESCRIPTION:Tous les mardis de 18h30 à 19h45.  \nTarifs et inscription uniquement sur demande. 
URL:https://cro-work-in.fr/evenement/cours-de-yoga-vinyhatha-flow-5/
LOCATION:CRO-WORK-IN\, 31\, route de Mittelhausbergen\, STRASBOURG\, 67200\, France
CATEGORIES:Sport
ORGANIZER;CN="Bella Eason Daniels":MAILTO:bellaeasondaniels@gmail.com
END:VEVENT
BEGIN:VEVENT
DTSTART;TZID=Europe/Paris:20250121T201500
DTEND;TZID=Europe/Paris:20250121T214500
DTSTAMP:20260422T143106
CREATED:20250114T113859Z
LAST-MODIFIED:20250116T104436Z
UID:7141-1737490500-1737495900@cro-work-in.fr
SUMMARY:Cours de yoga Hatha Flow
DESCRIPTION:Tous les mardis de 20h15 à 21h45.  \nTarifs et inscription uniquement sur demande.
URL:https://cro-work-in.fr/evenement/cours-de-hatha-flow-2/
LOCATION:CRO-WORK-IN\, 31\, route de Mittelhausbergen\, STRASBOURG\, 67200\, France
CATEGORIES:Sport
ATTACH;FMTTYPE=image/jpeg:https://cro-work-in.fr/wp-content/uploads/2025/01/0.jpeg
ORGANIZER;CN="Emilie Flux":MAILTO:emiliefaitduyoga@gmail.com
END:VEVENT
BEGIN:VEVENT
DTSTART;TZID=Europe/Paris:20250127T183000
DTEND;TZID=Europe/Paris:20250127T194500
DTSTAMP:20260422T143106
CREATED:20250114T114634Z
LAST-MODIFIED:20250123T100606Z
UID:7154-1738002600-1738007100@cro-work-in.fr
SUMMARY:Cours de yoga Viny’hatha / Flow
DESCRIPTION:Tous les lundis de 18h30 à 19h45.  \nTarifs et inscription uniquement sur demande. 
URL:https://cro-work-in.fr/evenement/cours-de-yoga-vinyhatha-flow-7/
LOCATION:CRO-WORK-IN\, 31\, route de Mittelhausbergen\, STRASBOURG\, 67200\, France
CATEGORIES:Sport
ATTACH;FMTTYPE=image/jpeg:https://cro-work-in.fr/wp-content/uploads/2025/01/1000004624.jpg
ORGANIZER;CN="Bella Eason Daniels":MAILTO:bellaeasondaniels@gmail.com
END:VEVENT
BEGIN:VEVENT
DTSTART;TZID=Europe/Paris:20250128T183000
DTEND;TZID=Europe/Paris:20250128T194500
DTSTAMP:20260422T143106
CREATED:20250114T114516Z
LAST-MODIFIED:20250123T101455Z
UID:7152-1738089000-1738093500@cro-work-in.fr
SUMMARY:Cours de yoga Viny’hatha / Flow
DESCRIPTION:Tous les mardis de 18h30 à 19h45.  \nTarifs et inscription uniquement sur demande.
URL:https://cro-work-in.fr/evenement/cours-de-yoga-vinyhatha-flow-6/
LOCATION:CRO-WORK-IN\, 31\, route de Mittelhausbergen\, STRASBOURG\, 67200\, France
CATEGORIES:Sport
ATTACH;FMTTYPE=image/jpeg:https://cro-work-in.fr/wp-content/uploads/2025/01/Bella.jpg
ORGANIZER;CN="Bella Eason Daniels":MAILTO:bellaeasondaniels@gmail.com
END:VEVENT
BEGIN:VEVENT
DTSTART;TZID=Europe/Paris:20250128T201500
DTEND;TZID=Europe/Paris:20250128T214500
DTSTAMP:20260422T143106
CREATED:20250114T114739Z
LAST-MODIFIED:20250116T104639Z
UID:7156-1738095300-1738100700@cro-work-in.fr
SUMMARY:Cours de yoga Hatha Flow
DESCRIPTION:Tous les mardis de 20h15 à 21h45.  \nTarifs et inscription uniquement sur demande.  \n 
URL:https://cro-work-in.fr/evenement/cours-de-hatha-flow-3/
LOCATION:CRO-WORK-IN\, 31\, route de Mittelhausbergen\, STRASBOURG\, 67200\, France
CATEGORIES:Sport
ATTACH;FMTTYPE=image/jpeg:https://cro-work-in.fr/wp-content/uploads/2025/01/0-1.jpeg
ORGANIZER;CN="Emilie Flux":MAILTO:emiliefaitduyoga@gmail.com
END:VEVENT
END:VCALENDAR