BEGIN:VCALENDAR
VERSION:2.0
PRODID:-//CRO-WORK-IN | Coworking, Salles de Réunion, Team building et Séminaires | Strasbourg-Cronenbourg - ECPv6.9.1//NONSGML v1.0//EN
CALSCALE:GREGORIAN
METHOD:PUBLISH
X-WR-CALNAME:CRO-WORK-IN | Coworking, Salles de Réunion, Team building et Séminaires | Strasbourg-Cronenbourg
X-ORIGINAL-URL:https://cro-work-in.fr
X-WR-CALDESC:Évènements pour CRO-WORK-IN | Coworking, Salles de Réunion, Team building et Séminaires | Strasbourg-Cronenbourg
REFRESH-INTERVAL;VALUE=DURATION:PT1H
X-Robots-Tag:noindex
X-PUBLISHED-TTL:PT1H
BEGIN:VTIMEZONE
TZID:Europe/Paris
BEGIN:DAYLIGHT
TZOFFSETFROM:+0100
TZOFFSETTO:+0200
TZNAME:CEST
DTSTART:20250330T010000
END:DAYLIGHT
BEGIN:STANDARD
TZOFFSETFROM:+0200
TZOFFSETTO:+0100
TZNAME:CET
DTSTART:20251026T010000
END:STANDARD
END:VTIMEZONE
BEGIN:VEVENT
DTSTART;TZID=Europe/Paris:20251002T173000
DTEND;TZID=Europe/Paris:20251002T190000
DTSTAMP:20260421T210320
CREATED:20250307T090055Z
LAST-MODIFIED:20250307T090055Z
UID:7626-1759426200-1759431600@cro-work-in.fr
SUMMARY:Cours d’anglais pour les adultes
DESCRIPTION:Tous les jeudis de 17h30 à 19h.  \nTarifs et inscription uniquement sur demande.
URL:https://cro-work-in.fr/evenement/cours-danglais-pour-les-adultes-25/
LOCATION:CRO-WORK-IN\, 31\, route de Mittelhausbergen\, STRASBOURG\, 67200\, France
CATEGORIES:Atelier
ORGANIZER;CN="Aurore Solito":MAILTO:aurore.solito@yahoo.fr
END:VEVENT
BEGIN:VEVENT
DTSTART;TZID=Europe/Paris:20251004T100000
DTEND;TZID=Europe/Paris:20251004T110000
DTSTAMP:20260421T210320
CREATED:20250307T090136Z
LAST-MODIFIED:20250307T090136Z
UID:7629-1759572000-1759575600@cro-work-in.fr
SUMMARY:Cours d’anglais pour les enfants groupe débutant
DESCRIPTION:Tous les samedis de 10h à 11h.  \nTarifs et inscription uniquement sur demande.
URL:https://cro-work-in.fr/evenement/cours-danglais-pour-les-enfants-groupe-debutant-23/
LOCATION:CRO-WORK-IN\, 31\, route de Mittelhausbergen\, STRASBOURG\, 67200\, France
CATEGORIES:Atelier
ORGANIZER;CN="Aurore Solito":MAILTO:aurore.solito@yahoo.fr
END:VEVENT
BEGIN:VEVENT
DTSTART;TZID=Europe/Paris:20251004T110000
DTEND;TZID=Europe/Paris:20251004T120000
DTSTAMP:20260421T210320
CREATED:20250307T090816Z
LAST-MODIFIED:20250307T090816Z
UID:7648-1759575600-1759579200@cro-work-in.fr
SUMMARY:Cours d’anglais pour les enfants groupe avancé
DESCRIPTION:Tous les samedis de 11h à 12h.  \nTarifs et inscription uniquement sur demande.
URL:https://cro-work-in.fr/evenement/cours-danglais-pour-les-enfants-groupe-avance-24/
LOCATION:CRO-WORK-IN\, 31\, route de Mittelhausbergen\, STRASBOURG\, 67200\, France
CATEGORIES:Atelier
ORGANIZER;CN="Aurore Solito":MAILTO:aurore.solito@yahoo.fr
END:VEVENT
BEGIN:VEVENT
DTSTART;TZID=Europe/Paris:20251009T173000
DTEND;TZID=Europe/Paris:20251009T190000
DTSTAMP:20260421T210320
CREATED:20250307T090652Z
LAST-MODIFIED:20250307T090652Z
UID:7642-1760031000-1760036400@cro-work-in.fr
SUMMARY:Cours d’anglais pour les adultes
DESCRIPTION:Tous les jeudis de 17h30 à 19h.  \nTarifs et inscription uniquement sur demande. 
URL:https://cro-work-in.fr/evenement/cours-danglais-pour-les-adultes-26/
LOCATION:CRO-WORK-IN\, 31\, route de Mittelhausbergen\, STRASBOURG\, 67200\, France
CATEGORIES:Atelier
ORGANIZER;CN="Aurore Solito":MAILTO:aurore.solito@yahoo.fr
END:VEVENT
BEGIN:VEVENT
DTSTART;TZID=Europe/Paris:20251011T100000
DTEND;TZID=Europe/Paris:20251011T110000
DTSTAMP:20260421T210320
CREATED:20250307T091222Z
LAST-MODIFIED:20250307T091222Z
UID:7652-1760176800-1760180400@cro-work-in.fr
SUMMARY:Cours d’anglais pour les enfants groupe débutant
DESCRIPTION:Tous les samedis de 10h à 11h.  \nTarifs et inscription uniquement sur demande.
URL:https://cro-work-in.fr/evenement/cours-danglais-pour-les-enfants-groupe-debutant-24/
LOCATION:CRO-WORK-IN\, 31\, route de Mittelhausbergen\, STRASBOURG\, 67200\, France
CATEGORIES:Atelier
ORGANIZER;CN="Aurore Solito":MAILTO:aurore.solito@yahoo.fr
END:VEVENT
BEGIN:VEVENT
DTSTART;TZID=Europe/Paris:20251011T110000
DTEND;TZID=Europe/Paris:20251011T120000
DTSTAMP:20260421T210320
CREATED:20250307T091303Z
LAST-MODIFIED:20250307T091303Z
UID:7656-1760180400-1760184000@cro-work-in.fr
SUMMARY:Cours d’anglais pour les enfants groupe avancé
DESCRIPTION:Tous les samedis de 11h à 12h.  \nTarifs et inscription uniquement sur demande.
URL:https://cro-work-in.fr/evenement/cours-danglais-pour-les-enfants-groupe-avance-23/
LOCATION:CRO-WORK-IN\, 31\, route de Mittelhausbergen\, STRASBOURG\, 67200\, France
CATEGORIES:Atelier
ORGANIZER;CN="Aurore Solito":MAILTO:aurore.solito@yahoo.fr
END:VEVENT
BEGIN:VEVENT
DTSTART;TZID=Europe/Paris:20251016T173000
DTEND;TZID=Europe/Paris:20251016T190000
DTSTAMP:20260421T210320
CREATED:20250307T091929Z
LAST-MODIFIED:20250307T091929Z
UID:7670-1760635800-1760641200@cro-work-in.fr
SUMMARY:Cours d’anglais pour les adultes
DESCRIPTION:Tous les jeudis de 17h30 à 19h.  \nTarifs et inscription uniquement sur demande. 
URL:https://cro-work-in.fr/evenement/cours-danglais-pour-les-adultes-27/
LOCATION:CRO-WORK-IN\, 31\, route de Mittelhausbergen\, STRASBOURG\, 67200\, France
CATEGORIES:Atelier
ORGANIZER;CN="Aurore Solito":MAILTO:aurore.solito@yahoo.fr
END:VEVENT
BEGIN:VEVENT
DTSTART;TZID=Europe/Paris:20251018T100000
DTEND;TZID=Europe/Paris:20251018T110000
DTSTAMP:20260421T210320
CREATED:20250307T092014Z
LAST-MODIFIED:20250307T092014Z
UID:7673-1760781600-1760785200@cro-work-in.fr
SUMMARY:Cours d’anglais pour les enfants groupe débutant
DESCRIPTION:Tous les samedis de 10h à 11h.  \nTarifs et inscription uniquement sur demande.
URL:https://cro-work-in.fr/evenement/cours-danglais-pour-les-enfants-groupe-debutant-25/
LOCATION:CRO-WORK-IN\, 31\, route de Mittelhausbergen\, STRASBOURG\, 67200\, France
CATEGORIES:Atelier
ORGANIZER;CN="Aurore Solito":MAILTO:aurore.solito@yahoo.fr
END:VEVENT
BEGIN:VEVENT
DTSTART;TZID=Europe/Paris:20251018T110000
DTEND;TZID=Europe/Paris:20251018T120000
DTSTAMP:20260421T210320
CREATED:20250307T092055Z
LAST-MODIFIED:20250307T092055Z
UID:7676-1760785200-1760788800@cro-work-in.fr
SUMMARY:Cours d’anglais pour les enfants groupe avancé
DESCRIPTION:Tous les samedis de 11h à 12h.  \nTarifs et inscription uniquement sur demande.
URL:https://cro-work-in.fr/evenement/cours-danglais-pour-les-enfants-groupe-avance-25/
LOCATION:CRO-WORK-IN\, 31\, route de Mittelhausbergen\, STRASBOURG\, 67200\, France
CATEGORIES:Atelier
ORGANIZER;CN="Aurore Solito":MAILTO:aurore.solito@yahoo.fr
END:VEVENT
END:VCALENDAR