BEGIN:VCALENDAR
VERSION:2.0
PRODID:-//CRO-WORK-IN | Coworking, Salles de Réunion, Team building et Séminaires | Strasbourg-Cronenbourg - ECPv6.9.1//NONSGML v1.0//EN
CALSCALE:GREGORIAN
METHOD:PUBLISH
X-WR-CALNAME:CRO-WORK-IN | Coworking, Salles de Réunion, Team building et Séminaires | Strasbourg-Cronenbourg
X-ORIGINAL-URL:https://cro-work-in.fr
X-WR-CALDESC:Évènements pour CRO-WORK-IN | Coworking, Salles de Réunion, Team building et Séminaires | Strasbourg-Cronenbourg
REFRESH-INTERVAL;VALUE=DURATION:PT1H
X-Robots-Tag:noindex
X-PUBLISHED-TTL:PT1H
BEGIN:VTIMEZONE
TZID:Europe/Paris
BEGIN:DAYLIGHT
TZOFFSETFROM:+0100
TZOFFSETTO:+0200
TZNAME:CEST
DTSTART:20250330T010000
END:DAYLIGHT
BEGIN:STANDARD
TZOFFSETFROM:+0200
TZOFFSETTO:+0100
TZNAME:CET
DTSTART:20251026T010000
END:STANDARD
END:VTIMEZONE
BEGIN:VEVENT
DTSTART;TZID=Europe/Paris:20250904T173000
DTEND;TZID=Europe/Paris:20250904T190000
DTSTAMP:20260421T225712
CREATED:20250307T082609Z
LAST-MODIFIED:20250307T082609Z
UID:7558-1757007000-1757012400@cro-work-in.fr
SUMMARY:Cours d’anglais pour les adultes
DESCRIPTION:Tous les jeudis de 17h30 à 19h.  \nTarifs et inscription uniquement sur demande. 
URL:https://cro-work-in.fr/evenement/cours-danglais-pour-les-adultes-21/
LOCATION:CRO-WORK-IN\, 31\, route de Mittelhausbergen\, STRASBOURG\, 67200\, France
CATEGORIES:Atelier
ATTACH;FMTTYPE=image/jpeg:https://cro-work-in.fr/wp-content/uploads/2024/12/Cours-anglais-CRO.jpeg
ORGANIZER;CN="Aurore Solito":MAILTO:aurore.solito@yahoo.fr
END:VEVENT
BEGIN:VEVENT
DTSTART;TZID=Europe/Paris:20250906T100000
DTEND;TZID=Europe/Paris:20250906T110000
DTSTAMP:20260421T225712
CREATED:20250307T083537Z
LAST-MODIFIED:20250307T083537Z
UID:7562-1757152800-1757156400@cro-work-in.fr
SUMMARY:Cours d’anglais pour les enfants groupe débutant
DESCRIPTION:Tous les samedis de 10h à 11h.  \nTarifs et inscription uniquement sur demande.
URL:https://cro-work-in.fr/evenement/cours-danglais-pour-les-enfants-groupe-debutant-19/
LOCATION:CRO-WORK-IN\, 31\, route de Mittelhausbergen\, STRASBOURG\, 67200\, France
CATEGORIES:Atelier
ORGANIZER;CN="Aurore Solito":MAILTO:aurore.solito@yahoo.fr
END:VEVENT
BEGIN:VEVENT
DTSTART;TZID=Europe/Paris:20250906T110000
DTEND;TZID=Europe/Paris:20250906T120000
DTSTAMP:20260421T225712
CREATED:20250307T083641Z
LAST-MODIFIED:20250307T083641Z
UID:7565-1757156400-1757160000@cro-work-in.fr
SUMMARY:Cours d’anglais pour les enfants groupe avancé
DESCRIPTION:Tous les samedis de 11h à 12h.  \nTarifs et inscription uniquement sur demande.
URL:https://cro-work-in.fr/evenement/cours-danglais-pour-les-enfants-groupe-avance-3/
LOCATION:CRO-WORK-IN\, 31\, route de Mittelhausbergen\, STRASBOURG\, 67200\, France
CATEGORIES:Atelier
ORGANIZER;CN="Aurore Solito":MAILTO:aurore.solito@yahoo.fr
END:VEVENT
BEGIN:VEVENT
DTSTART;TZID=Europe/Paris:20250908T183000
DTEND;TZID=Europe/Paris:20250908T194500
DTSTAMP:20260421T225712
CREATED:20250307T083754Z
LAST-MODIFIED:20250307T083754Z
UID:7567-1757356200-1757360700@cro-work-in.fr
SUMMARY:Cours de yoga Viny’hatha / Flow
DESCRIPTION:Tous les lundis de 18h30 à 19h45.  \nTarifs et inscription uniquement sur demande. 
URL:https://cro-work-in.fr/evenement/cours-de-yoga-vinyhatha-flow-44/
LOCATION:CRO-WORK-IN\, 31\, route de Mittelhausbergen\, STRASBOURG\, 67200\, France
CATEGORIES:Atelier
ATTACH;FMTTYPE=image/jpeg:https://cro-work-in.fr/wp-content/uploads/2025/01/Bella.jpg
ORGANIZER;CN="Bella Eason Daniels":MAILTO:bellaeasondaniels@gmail.com
END:VEVENT
BEGIN:VEVENT
DTSTART;TZID=Europe/Paris:20250909T183000
DTEND;TZID=Europe/Paris:20250909T194500
DTSTAMP:20260421T225712
CREATED:20250307T083854Z
LAST-MODIFIED:20250307T083854Z
UID:7570-1757442600-1757447100@cro-work-in.fr
SUMMARY:Cours de yoga Viny’hatha / Flow
DESCRIPTION:Tous les mardis de 18h30 à 19h45.  Tarifs et inscription uniquement sur demande.  \nTarif sur demande
URL:https://cro-work-in.fr/evenement/cours-de-yoga-vinyhatha-flow-45/
LOCATION:CRO-WORK-IN\, 31\, route de Mittelhausbergen\, STRASBOURG\, 67200\, France
CATEGORIES:Atelier
ATTACH;FMTTYPE=image/jpeg:https://cro-work-in.fr/wp-content/uploads/2025/01/1000004624.jpg
ORGANIZER;CN="Bella Eason Daniels":MAILTO:bellaeasondaniels@gmail.com
END:VEVENT
BEGIN:VEVENT
DTSTART;TZID=Europe/Paris:20250909T201500
DTEND;TZID=Europe/Paris:20250909T214500
DTSTAMP:20260421T225712
CREATED:20250307T083955Z
LAST-MODIFIED:20250307T083955Z
UID:7572-1757448900-1757454300@cro-work-in.fr
SUMMARY:Cours de yoga Hatha Flow
DESCRIPTION:Tous les mardis de 20h15 à 21h45.  Tarifs et inscription uniquement sur demande.
URL:https://cro-work-in.fr/evenement/cours-de-yoga-hatha-flow-2/
LOCATION:CRO-WORK-IN\, 31\, route de Mittelhausbergen\, STRASBOURG\, 67200\, France
CATEGORIES:Atelier
ATTACH;FMTTYPE=image/jpeg:https://cro-work-in.fr/wp-content/uploads/2025/01/Mims-Yogiz_2024-8.jpg
ORGANIZER;CN="Emilie Flux":MAILTO:emiliefaitduyoga@gmail.com
END:VEVENT
BEGIN:VEVENT
DTSTART;TZID=Europe/Paris:20250911T173000
DTEND;TZID=Europe/Paris:20250911T190000
DTSTAMP:20260421T225712
CREATED:20250307T084045Z
LAST-MODIFIED:20250307T084045Z
UID:7575-1757611800-1757617200@cro-work-in.fr
SUMMARY:Cours d’anglais pour les adultes
DESCRIPTION:Tous les jeudis de 17h30 à 19h.  \nTarifs et inscription uniquement sur demande. 
URL:https://cro-work-in.fr/evenement/cours-danglais-pour-les-adultes-22/
LOCATION:CRO-WORK-IN\, 31\, route de Mittelhausbergen\, STRASBOURG\, 67200\, France
CATEGORIES:Atelier
ORGANIZER;CN="Aurore Solito":MAILTO:aurore.solito@yahoo.fr
END:VEVENT
BEGIN:VEVENT
DTSTART;TZID=Europe/Paris:20250913T100000
DTEND;TZID=Europe/Paris:20250913T110000
DTSTAMP:20260421T225712
CREATED:20250307T084127Z
LAST-MODIFIED:20250307T084127Z
UID:7577-1757757600-1757761200@cro-work-in.fr
SUMMARY:Cours d’anglais pour les enfants groupe débutant
DESCRIPTION:Tous les samedis de 10h à 11h.  \nTarifs et inscription uniquement sur demande.
URL:https://cro-work-in.fr/evenement/cours-danglais-pour-les-enfants-groupe-debutant-20/
LOCATION:CRO-WORK-IN\, 31\, route de Mittelhausbergen\, STRASBOURG\, 67200\, France
CATEGORIES:Atelier
ORGANIZER;CN="Aurore Solito":MAILTO:aurore.solito@yahoo.fr
END:VEVENT
BEGIN:VEVENT
DTSTART;TZID=Europe/Paris:20250913T110000
DTEND;TZID=Europe/Paris:20250913T120000
DTSTAMP:20260421T225712
CREATED:20250307T084212Z
LAST-MODIFIED:20250307T084212Z
UID:7579-1757761200-1757764800@cro-work-in.fr
SUMMARY:Cours d’anglais pour les enfants groupe avancé
DESCRIPTION:Tous les samedis de 11h à 12h.  \nTarifs et inscription uniquement sur demande.
URL:https://cro-work-in.fr/evenement/cours-danglais-pour-les-enfants-groupe-avance-20/
LOCATION:CRO-WORK-IN\, 31\, route de Mittelhausbergen\, STRASBOURG\, 67200\, France
CATEGORIES:Atelier
ORGANIZER;CN="Aurore Solito":MAILTO:aurore.solito@yahoo.fr
END:VEVENT
BEGIN:VEVENT
DTSTART;TZID=Europe/Paris:20250918T173000
DTEND;TZID=Europe/Paris:20250918T190000
DTSTAMP:20260421T225712
CREATED:20250307T084602Z
LAST-MODIFIED:20250307T084602Z
UID:7589-1758216600-1758222000@cro-work-in.fr
SUMMARY:Cours d’anglais pour les adultes
DESCRIPTION:Tous les jeudis de 17h30 à 19h.  \nTarifs et inscription uniquement sur demande.
URL:https://cro-work-in.fr/evenement/cours-danglais-pour-les-adultes-23/
LOCATION:CRO-WORK-IN\, 31\, route de Mittelhausbergen\, STRASBOURG\, 67200\, France
CATEGORIES:Atelier
ORGANIZER;CN="Aurore Solito":MAILTO:aurore.solito@yahoo.fr
END:VEVENT
BEGIN:VEVENT
DTSTART;TZID=Europe/Paris:20250920T100000
DTEND;TZID=Europe/Paris:20250920T110000
DTSTAMP:20260421T225712
CREATED:20250307T084649Z
LAST-MODIFIED:20250307T084649Z
UID:7592-1758362400-1758366000@cro-work-in.fr
SUMMARY:Cours d’anglais pour les enfants groupe débutant
DESCRIPTION:Tous les samedis de 10h à 11h.  \nTarifs et inscription uniquement sur demande.
URL:https://cro-work-in.fr/evenement/cours-danglais-pour-les-enfants-groupe-debutant-21/
LOCATION:CRO-WORK-IN\, 31\, route de Mittelhausbergen\, STRASBOURG\, 67200\, France
CATEGORIES:Atelier
ORGANIZER;CN="Aurore Solito":MAILTO:aurore.solito@yahoo.fr
END:VEVENT
BEGIN:VEVENT
DTSTART;TZID=Europe/Paris:20250920T110000
DTEND;TZID=Europe/Paris:20250920T120000
DTSTAMP:20260421T225712
CREATED:20250307T084733Z
LAST-MODIFIED:20250307T084733Z
UID:7596-1758366000-1758369600@cro-work-in.fr
SUMMARY:Cours d’anglais pour les enfants groupe avancé
DESCRIPTION:Tous les samedis de 11h à 12h.  \nTarifs et inscription uniquement sur demande.
URL:https://cro-work-in.fr/evenement/cours-danglais-pour-les-enfants-groupe-avance-21/
LOCATION:CRO-WORK-IN\, 31\, route de Mittelhausbergen\, STRASBOURG\, 67200\, France
CATEGORIES:Atelier
ORGANIZER;CN="Aurore Solito":MAILTO:aurore.solito@yahoo.fr
END:VEVENT
BEGIN:VEVENT
DTSTART;TZID=Europe/Paris:20250925T173000
DTEND;TZID=Europe/Paris:20250925T190000
DTSTAMP:20260421T225712
CREATED:20250307T085551Z
LAST-MODIFIED:20250307T085551Z
UID:7608-1758821400-1758826800@cro-work-in.fr
SUMMARY:Cours d’anglais pour les adultes
DESCRIPTION:Tous les jeudis de 17h30 à 19h.  \nTarifs et inscription uniquement sur demande.
URL:https://cro-work-in.fr/evenement/cours-danglais-pour-les-adultes-24/
LOCATION:CRO-WORK-IN\, 31\, route de Mittelhausbergen\, STRASBOURG\, 67200\, France
CATEGORIES:Atelier
ORGANIZER;CN="Aurore Solito":MAILTO:aurore.solito@yahoo.fr
END:VEVENT
BEGIN:VEVENT
DTSTART;TZID=Europe/Paris:20250927T100000
DTEND;TZID=Europe/Paris:20250927T110000
DTSTAMP:20260421T225712
CREATED:20250307T085631Z
LAST-MODIFIED:20250307T085631Z
UID:7610-1758967200-1758970800@cro-work-in.fr
SUMMARY:Cours d’anglais pour les enfants groupe débutant
DESCRIPTION:Tous les samedis de 10h à 11h.  \nTarifs et inscription uniquement sur demande.
URL:https://cro-work-in.fr/evenement/cours-danglais-pour-les-enfants-groupe-debutant-22/
LOCATION:CRO-WORK-IN\, 31\, route de Mittelhausbergen\, STRASBOURG\, 67200\, France
CATEGORIES:Atelier
ORGANIZER;CN="Aurore Solito":MAILTO:aurore.solito@yahoo.fr
END:VEVENT
BEGIN:VEVENT
DTSTART;TZID=Europe/Paris:20250927T110000
DTEND;TZID=Europe/Paris:20250927T120000
DTSTAMP:20260421T225712
CREATED:20250307T085708Z
LAST-MODIFIED:20250307T085708Z
UID:7614-1758970800-1758974400@cro-work-in.fr
SUMMARY:Cours d’anglais pour les enfants groupe avancé
DESCRIPTION:Tous les samedis de 11h à 12h.  \nTarifs et inscription uniquement sur demande.
URL:https://cro-work-in.fr/evenement/cours-danglais-pour-les-enfants-groupe-avance-22/
LOCATION:CRO-WORK-IN\, 31\, route de Mittelhausbergen\, STRASBOURG\, 67200\, France
CATEGORIES:Atelier
ORGANIZER;CN="Aurore Solito":MAILTO:aurore.solito@yahoo.fr
END:VEVENT
END:VCALENDAR