BEGIN:VCALENDAR
VERSION:2.0
PRODID:-//CRO-WORK-IN | Coworking, Salles de Réunion, Team building et Séminaires | Strasbourg-Cronenbourg - ECPv6.9.1//NONSGML v1.0//EN
CALSCALE:GREGORIAN
METHOD:PUBLISH
X-ORIGINAL-URL:https://cro-work-in.fr
X-WR-CALDESC:Évènements pour CRO-WORK-IN | Coworking, Salles de Réunion, Team building et Séminaires | Strasbourg-Cronenbourg
REFRESH-INTERVAL;VALUE=DURATION:PT1H
X-Robots-Tag:noindex
X-PUBLISHED-TTL:PT1H
BEGIN:VTIMEZONE
TZID:Europe/Paris
BEGIN:DAYLIGHT
TZOFFSETFROM:+0100
TZOFFSETTO:+0200
TZNAME:CEST
DTSTART:20250330T010000
END:DAYLIGHT
BEGIN:STANDARD
TZOFFSETFROM:+0200
TZOFFSETTO:+0100
TZNAME:CET
DTSTART:20251026T010000
END:STANDARD
END:VTIMEZONE
BEGIN:VEVENT
DTSTART;TZID=Europe/Paris:20250501T173000
DTEND;TZID=Europe/Paris:20250501T190000
DTSTAMP:20260422T061450
CREATED:20250115T083353Z
LAST-MODIFIED:20250115T083353Z
UID:7290-1746120600-1746126000@cro-work-in.fr
SUMMARY:Cours d’anglais pour les adultes
DESCRIPTION:Tous les jeudis de 17h30 à 19h.  \nTarifs et inscription uniquement sur demande.
URL:https://cro-work-in.fr/evenement/cours-danglais-pour-les-adultes-11/
LOCATION:CRO-WORK-IN\, 31\, route de Mittelhausbergen\, STRASBOURG\, 67200\, France
CATEGORIES:Atelier
ORGANIZER;CN="Aurore Solito":MAILTO:aurore.solito@yahoo.fr
END:VEVENT
BEGIN:VEVENT
DTSTART;TZID=Europe/Paris:20250503T100000
DTEND;TZID=Europe/Paris:20250503T110000
DTSTAMP:20260422T061450
CREATED:20250115T083456Z
LAST-MODIFIED:20250115T083456Z
UID:7292-1746266400-1746270000@cro-work-in.fr
SUMMARY:Cours d’anglais pour les enfants groupe débutant
DESCRIPTION:Tous les samedis de 10h à 11h.  \nTarifs et inscription uniquement sur demande.
URL:https://cro-work-in.fr/evenement/cours-danglais-pour-les-enfants-groupe-debutant-10/
LOCATION:CRO-WORK-IN\, 31\, route de Mittelhausbergen\, STRASBOURG\, 67200\, France
CATEGORIES:Atelier
ORGANIZER;CN="Aurore Solito":MAILTO:aurore.solito@yahoo.fr
END:VEVENT
BEGIN:VEVENT
DTSTART;TZID=Europe/Paris:20250503T110000
DTEND;TZID=Europe/Paris:20250503T120000
DTSTAMP:20260422T061450
CREATED:20250115T084232Z
LAST-MODIFIED:20250115T084232Z
UID:7301-1746270000-1746273600@cro-work-in.fr
SUMMARY:Cours d’anglais pour les enfants groupe avancé
DESCRIPTION:Tous les samedis de 11h à 12h.  \nTarifs et inscription uniquement sur demande.
URL:https://cro-work-in.fr/evenement/cours-danglais-pour-les-enfants-groupe-avance-11/
LOCATION:CRO-WORK-IN\, 31\, route de Mittelhausbergen\, STRASBOURG\, 67200\, France
CATEGORIES:Atelier
ORGANIZER;CN="Aurore Solito":MAILTO:aurore.solito@yahoo.fr
END:VEVENT
BEGIN:VEVENT
DTSTART;TZID=Europe/Paris:20250508T173000
DTEND;TZID=Europe/Paris:20250508T190000
DTSTAMP:20260422T061450
CREATED:20250115T084621Z
LAST-MODIFIED:20250115T084621Z
UID:7310-1746725400-1746730800@cro-work-in.fr
SUMMARY:Cours d’anglais pour les adultes
DESCRIPTION:Tous les jeudis de 17h30 à 19h.  \nTarifs et inscription uniquement sur demande. 
URL:https://cro-work-in.fr/evenement/cours-danglais-pour-les-adultes-12/
LOCATION:CRO-WORK-IN\, 31\, route de Mittelhausbergen\, STRASBOURG\, 67200\, France
CATEGORIES:Atelier
ORGANIZER;CN="Aurore Solito":MAILTO:aurore.solito@yahoo.fr
END:VEVENT
BEGIN:VEVENT
DTSTART;TZID=Europe/Paris:20250510T100000
DTEND;TZID=Europe/Paris:20250510T110000
DTSTAMP:20260422T061450
CREATED:20250115T084724Z
LAST-MODIFIED:20250115T084724Z
UID:7312-1746871200-1746874800@cro-work-in.fr
SUMMARY:Cours d’anglais pour les enfants groupe débutant
DESCRIPTION:Tous les samedis de 10h à 11h.  \nTarifs et inscription uniquement sur demande.
URL:https://cro-work-in.fr/evenement/cours-danglais-pour-les-enfants-groupe-debutant-11/
LOCATION:CRO-WORK-IN\, 31\, route de Mittelhausbergen\, STRASBOURG\, 67200\, France
CATEGORIES:Atelier
ORGANIZER;CN="Aurore Solito":MAILTO:aurore.solito@yahoo.fr
END:VEVENT
BEGIN:VEVENT
DTSTART;TZID=Europe/Paris:20250510T110000
DTEND;TZID=Europe/Paris:20250510T120000
DTSTAMP:20260422T061450
CREATED:20250115T084823Z
LAST-MODIFIED:20250115T084823Z
UID:7315-1746874800-1746878400@cro-work-in.fr
SUMMARY:Cours d’anglais pour les enfants groupe avancé
DESCRIPTION:Tous les samedis de 11h à 12h.  \nTarifs et inscription uniquement sur demande.
URL:https://cro-work-in.fr/evenement/cours-danglais-pour-les-enfants-groupe-avance-12/
LOCATION:CRO-WORK-IN\, 31\, route de Mittelhausbergen\, STRASBOURG\, 67200\, France
CATEGORIES:Atelier
ORGANIZER;CN="Aurore Solito":MAILTO:aurore.solito@yahoo.fr
END:VEVENT
BEGIN:VEVENT
DTSTART;TZID=Europe/Paris:20250515T173000
DTEND;TZID=Europe/Paris:20250515T190000
DTSTAMP:20260422T061450
CREATED:20250115T085218Z
LAST-MODIFIED:20250115T085218Z
UID:7325-1747330200-1747335600@cro-work-in.fr
SUMMARY:Cours d’anglais pour les adultes
DESCRIPTION:Tous les jeudis de 17h30 à 19h.  \nTarifs et inscription uniquement sur demande.
URL:https://cro-work-in.fr/evenement/cours-danglais-pour-les-adultes-13/
LOCATION:CRO-WORK-IN\, 31\, route de Mittelhausbergen\, STRASBOURG\, 67200\, France
CATEGORIES:Atelier
ORGANIZER;CN="Aurore Solito":MAILTO:aurore.solito@yahoo.fr
END:VEVENT
BEGIN:VEVENT
DTSTART;TZID=Europe/Paris:20250517T100000
DTEND;TZID=Europe/Paris:20250517T110000
DTSTAMP:20260422T061450
CREATED:20250115T085316Z
LAST-MODIFIED:20250115T085316Z
UID:7329-1747476000-1747479600@cro-work-in.fr
SUMMARY:Cours d’anglais pour les enfants groupe débutant
DESCRIPTION:Tous les samedis de 10h à 11h.  \nTarifs et inscription uniquement sur demande.
URL:https://cro-work-in.fr/evenement/cours-danglais-pour-les-enfants-groupe-debutant-12/
LOCATION:CRO-WORK-IN\, 31\, route de Mittelhausbergen\, STRASBOURG\, 67200\, France
CATEGORIES:Atelier
ORGANIZER;CN="Aurore Solito":MAILTO:aurore.solito@yahoo.fr
END:VEVENT
BEGIN:VEVENT
DTSTART;TZID=Europe/Paris:20250517T110000
DTEND;TZID=Europe/Paris:20250517T120000
DTSTAMP:20260422T061450
CREATED:20250115T085408Z
LAST-MODIFIED:20250115T085408Z
UID:7332-1747479600-1747483200@cro-work-in.fr
SUMMARY:Cours d’anglais pour les enfants groupe avancé
DESCRIPTION:Tous les samedis de 11h à 12h.  \nTarifs et inscription uniquement sur demande.
URL:https://cro-work-in.fr/evenement/cours-danglais-pour-les-enfants-groupe-avance-13/
LOCATION:CRO-WORK-IN\, 31\, route de Mittelhausbergen\, STRASBOURG\, 67200\, France
CATEGORIES:Atelier
ORGANIZER;CN="Aurore Solito":MAILTO:aurore.solito@yahoo.fr
END:VEVENT
BEGIN:VEVENT
DTSTART;TZID=Europe/Paris:20250522T173000
DTEND;TZID=Europe/Paris:20250522T190000
DTSTAMP:20260422T061450
CREATED:20250115T085815Z
LAST-MODIFIED:20250115T085815Z
UID:7341-1747935000-1747940400@cro-work-in.fr
SUMMARY:Cours d’anglais pour les adultes
DESCRIPTION:Tous les jeudis de 17h30 à 19h.  \nTarifs et inscription uniquement sur demande. 
URL:https://cro-work-in.fr/evenement/cours-danglais-pour-les-adultes-14/
LOCATION:CRO-WORK-IN\, 31\, route de Mittelhausbergen\, STRASBOURG\, 67200\, France
CATEGORIES:Atelier
ORGANIZER;CN="Aurore Solito":MAILTO:aurore.solito@yahoo.fr
END:VEVENT
BEGIN:VEVENT
DTSTART;TZID=Europe/Paris:20250524T100000
DTEND;TZID=Europe/Paris:20250524T110000
DTSTAMP:20260422T061450
CREATED:20250115T085902Z
LAST-MODIFIED:20250115T085902Z
UID:7343-1748080800-1748084400@cro-work-in.fr
SUMMARY:Cours d’anglais pour les enfants groupe débutant
DESCRIPTION:Tous les samedis de 10h à 11h.  \nTarifs et inscription uniquement sur demande. 
URL:https://cro-work-in.fr/evenement/cours-danglais-pour-les-enfants-groupe-debutant-13/
LOCATION:CRO-WORK-IN\, 31\, route de Mittelhausbergen\, STRASBOURG\, 67200\, France
CATEGORIES:Atelier
ORGANIZER;CN="Aurore Solito":MAILTO:aurore.solito@yahoo.fr
END:VEVENT
BEGIN:VEVENT
DTSTART;TZID=Europe/Paris:20250524T110000
DTEND;TZID=Europe/Paris:20250524T120000
DTSTAMP:20260422T061450
CREATED:20250115T090002Z
LAST-MODIFIED:20250115T090002Z
UID:7346-1748084400-1748088000@cro-work-in.fr
SUMMARY:Cours d’anglais pour les enfants groupe avancé
DESCRIPTION:Tous les samedis de 11h à 12h.  \nTarifs et inscription uniquement sur demande.
URL:https://cro-work-in.fr/evenement/cours-danglais-pour-les-enfants-groupe-avance-14/
LOCATION:CRO-WORK-IN\, 31\, route de Mittelhausbergen\, STRASBOURG\, 67200\, France
CATEGORIES:Atelier
ORGANIZER;CN="Aurore Solito":MAILTO:aurore.solito@yahoo.fr
END:VEVENT
BEGIN:VEVENT
DTSTART;TZID=Europe/Paris:20250529T173000
DTEND;TZID=Europe/Paris:20250529T190000
DTSTAMP:20260422T061450
CREATED:20250115T090441Z
LAST-MODIFIED:20250115T090441Z
UID:7360-1748539800-1748545200@cro-work-in.fr
SUMMARY:Cours d’anglais pour les adultes
DESCRIPTION:Tous les jeudis de 17h30 à 19h.  \nTarifs et inscription uniquement sur demande. 
URL:https://cro-work-in.fr/evenement/cours-danglais-pour-les-adultes-15/
LOCATION:CRO-WORK-IN\, 31\, route de Mittelhausbergen\, STRASBOURG\, 67200\, France
CATEGORIES:Atelier
ORGANIZER;CN="Aurore Solito":MAILTO:aurore.solito@yahoo.fr
END:VEVENT
BEGIN:VEVENT
DTSTART;TZID=Europe/Paris:20250531T100000
DTEND;TZID=Europe/Paris:20250531T110000
DTSTAMP:20260422T061450
CREATED:20250115T090523Z
LAST-MODIFIED:20250115T090523Z
UID:7362-1748685600-1748689200@cro-work-in.fr
SUMMARY:Cours d’anglais pour les enfants groupe débutant
DESCRIPTION:Tous les samedis de 10h à 11h.  \nTarifs et inscription uniquement sur demande.
URL:https://cro-work-in.fr/evenement/cours-danglais-pour-les-enfants-groupe-debutant-14/
LOCATION:CRO-WORK-IN\, 31\, route de Mittelhausbergen\, STRASBOURG\, 67200\, France
CATEGORIES:Atelier
ORGANIZER;CN="Aurore Solito":MAILTO:aurore.solito@yahoo.fr
END:VEVENT
BEGIN:VEVENT
DTSTART;TZID=Europe/Paris:20250531T110000
DTEND;TZID=Europe/Paris:20250531T120000
DTSTAMP:20260422T061450
CREATED:20250115T090607Z
LAST-MODIFIED:20250115T090607Z
UID:7365-1748689200-1748692800@cro-work-in.fr
SUMMARY:Cours d’anglais pour les enfants groupe avancé
DESCRIPTION:Tous les samedis de 11h à 12h.  \nTarifs et inscription uniquement sur demande.
URL:https://cro-work-in.fr/evenement/cours-danglais-pour-les-enfants-groupe-avance-15/
LOCATION:CRO-WORK-IN\, 31\, route de Mittelhausbergen\, STRASBOURG\, 67200\, France
CATEGORIES:Atelier
ORGANIZER;CN="Aurore Solito":MAILTO:aurore.solito@yahoo.fr
END:VEVENT
END:VCALENDAR