BEGIN:VCALENDAR
VERSION:2.0
PRODID:-//CRO-WORK-IN | Coworking, Salles de Réunion, Team building et Séminaires | Strasbourg-Cronenbourg - ECPv6.9.1//NONSGML v1.0//EN
CALSCALE:GREGORIAN
METHOD:PUBLISH
X-ORIGINAL-URL:https://cro-work-in.fr
X-WR-CALDESC:Évènements pour CRO-WORK-IN | Coworking, Salles de Réunion, Team building et Séminaires | Strasbourg-Cronenbourg
REFRESH-INTERVAL;VALUE=DURATION:PT1H
X-Robots-Tag:noindex
X-PUBLISHED-TTL:PT1H
BEGIN:VTIMEZONE
TZID:Europe/Paris
BEGIN:DAYLIGHT
TZOFFSETFROM:+0100
TZOFFSETTO:+0200
TZNAME:CEST
DTSTART:20250330T010000
END:DAYLIGHT
BEGIN:STANDARD
TZOFFSETFROM:+0200
TZOFFSETTO:+0100
TZNAME:CET
DTSTART:20251026T010000
END:STANDARD
END:VTIMEZONE
BEGIN:VEVENT
DTSTART;TZID=Europe/Paris:20250403T173000
DTEND;TZID=Europe/Paris:20250403T190000
DTSTAMP:20260422T080337
CREATED:20250114T132236Z
LAST-MODIFIED:20250114T132236Z
UID:7262-1743701400-1743706800@cro-work-in.fr
SUMMARY:Cours d’anglais pour les adultes
DESCRIPTION:Tous les jeudis de 17h30 à 19h.  \nTarifs et inscription uniquement sur demande.
URL:https://cro-work-in.fr/evenement/cours-danglais-pour-les-adultes-9/
LOCATION:CRO-WORK-IN\, 31\, route de Mittelhausbergen\, STRASBOURG\, 67200\, France
CATEGORIES:Atelier
ORGANIZER;CN="Aurore Solito":MAILTO:aurore.solito@yahoo.fr
END:VEVENT
BEGIN:VEVENT
DTSTART;TZID=Europe/Paris:20250424T173000
DTEND;TZID=Europe/Paris:20250424T190000
DTSTAMP:20260422T080337
CREATED:20250115T082533Z
LAST-MODIFIED:20250115T082533Z
UID:7276-1745515800-1745521200@cro-work-in.fr
SUMMARY:Cours d’anglais pour les adultes
DESCRIPTION:Tous les jeudis de 17h30 à 19h.  \nTarifs et inscription uniquement sur demande. 
URL:https://cro-work-in.fr/evenement/cours-danglais-pour-les-adultes-10/
LOCATION:CRO-WORK-IN\, 31\, route de Mittelhausbergen\, STRASBOURG\, 67200\, France
CATEGORIES:Atelier
ORGANIZER;CN="Aurore Solito":MAILTO:aurore.solito@yahoo.fr
END:VEVENT
BEGIN:VEVENT
DTSTART;TZID=Europe/Paris:20250426T100000
DTEND;TZID=Europe/Paris:20250426T110000
DTSTAMP:20260422T080337
CREATED:20250115T082622Z
LAST-MODIFIED:20250115T082622Z
UID:7279-1745661600-1745665200@cro-work-in.fr
SUMMARY:Cours d’anglais pour les enfants groupe débutant
DESCRIPTION:Tous les samedis de 10h à 11h.  \nTarifs et inscription uniquement sur demande. 
URL:https://cro-work-in.fr/evenement/cours-danglais-pour-les-enfants-groupe-debutant-9/
LOCATION:CRO-WORK-IN\, 31\, route de Mittelhausbergen\, STRASBOURG\, 67200\, France
CATEGORIES:Atelier
ORGANIZER;CN="Aurore Solito":MAILTO:aurore.solito@yahoo.fr
END:VEVENT
BEGIN:VEVENT
DTSTART;TZID=Europe/Paris:20250426T110000
DTEND;TZID=Europe/Paris:20250426T120000
DTSTAMP:20260422T080337
CREATED:20250115T082713Z
LAST-MODIFIED:20250115T082713Z
UID:7281-1745665200-1745668800@cro-work-in.fr
SUMMARY:Cours d’anglais pour les enfants groupe avancé
DESCRIPTION:Tous les samedis de 11h à 12h.  \nTarifs et inscription uniquement sur demande. 
URL:https://cro-work-in.fr/evenement/cours-danglais-pour-les-enfants-groupe-avance-10/
LOCATION:CRO-WORK-IN\, 31\, route de Mittelhausbergen\, STRASBOURG\, 67200\, France
CATEGORIES:Atelier
ORGANIZER;CN="Aurore Solito":MAILTO:aurore.solito@yahoo.fr
END:VEVENT
END:VCALENDAR